BEGIN:VCALENDAR
VERSION:2.0
PRODID:-//hacksw/handcal//NONSGML v1.0//EN
BEGIN:VEVENT
UID:cba1c91472724bc3d0e7699cbfc842f2example.com
DTSTAMP:20260421T092915Z
DTSTART:09.04.2024T000000Z
DTEND:09.04.2024T000000Z
SUMMARY:Swiss Independent Watchmaking Pavilion
DESCRIPTION:
END:VEVENT
END:VCALENDAR